BEGIN:VCALENDAR
VERSION:2.0
PRODID:-//Waldschenke Winterthur - ECPv6.15.18//NONSGML v1.0//EN
CALSCALE:GREGORIAN
METHOD:PUBLISH
X-ORIGINAL-URL:https://www.waldschenke-winterthur.ch
X-WR-CALDESC:Veranstaltungen für Waldschenke Winterthur
REFRESH-INTERVAL;VALUE=DURATION:PT1H
X-Robots-Tag:noindex
X-PUBLISHED-TTL:PT1H
BEGIN:VTIMEZONE
TZID:Europe/Zurich
BEGIN:DAYLIGHT
TZOFFSETFROM:+0100
TZOFFSETTO:+0200
TZNAME:CEST
DTSTART:20230326T010000
END:DAYLIGHT
BEGIN:STANDARD
TZOFFSETFROM:+0200
TZOFFSETTO:+0100
TZNAME:CET
DTSTART:20231029T010000
END:STANDARD
BEGIN:DAYLIGHT
TZOFFSETFROM:+0100
TZOFFSETTO:+0200
TZNAME:CEST
DTSTART:20240331T010000
END:DAYLIGHT
BEGIN:STANDARD
TZOFFSETFROM:+0200
TZOFFSETTO:+0100
TZNAME:CET
DTSTART:20241027T010000
END:STANDARD
BEGIN:DAYLIGHT
TZOFFSETFROM:+0100
TZOFFSETTO:+0200
TZNAME:CEST
DTSTART:20250330T010000
END:DAYLIGHT
BEGIN:STANDARD
TZOFFSETFROM:+0200
TZOFFSETTO:+0100
TZNAME:CET
DTSTART:20251026T010000
END:STANDARD
BEGIN:DAYLIGHT
TZOFFSETFROM:+0100
TZOFFSETTO:+0200
TZNAME:CEST
DTSTART:20260329T010000
END:DAYLIGHT
BEGIN:STANDARD
TZOFFSETFROM:+0200
TZOFFSETTO:+0100
TZNAME:CET
DTSTART:20261025T010000
END:STANDARD
END:VTIMEZONE
BEGIN:VEVENT
DTSTART;TZID=Europe/Zurich:20250928T103000
DTEND;TZID=Europe/Zurich:20250928T133000
DTSTAMP:20260421T161500
CREATED:20240204T170246Z
LAST-MODIFIED:20250325T113437Z
UID:1899-1759055400-1759066200@www.waldschenke-winterthur.ch
SUMMARY:Sonntagsbrunch 28. September 2025
DESCRIPTION:Der spezielle Sonntagsbrunch für die ganze Familie bietet ein genussreiches Buffet mit Chäs und Fleisch (fast alles aus der Region)\, Zopf und Honig. \nJeweils von 10.30 Uhr bis 13.30 Uhr bei jeder Witterung. \nReservation empfohlen…\nPreis: 28 Franken/Person ab 12 Jahren\, 1 Franken/Altersjahr bis 12 Jahre. \n \nAuskunft und Reservationen Sonntagsbrunch\nE-Mail: brunch@waldschenke-winterthur.ch
URL:https://www.waldschenke-winterthur.ch/event/sonntagsbrunch-22-september-2024/
ATTACH;FMTTYPE=image/jpeg:https://www.waldschenke-winterthur.ch/wp-content/uploads/090419_Waldschenke_buffet_original.jpg
END:VEVENT
BEGIN:VEVENT
DTSTART;TZID=Europe/Zurich:20250824T103000
DTEND;TZID=Europe/Zurich:20250824T133000
DTSTAMP:20260421T161500
CREATED:20240204T165735Z
LAST-MODIFIED:20250325T113351Z
UID:1897-1756031400-1756042200@www.waldschenke-winterthur.ch
SUMMARY:Sonntagsbrunch 24. August 2025
DESCRIPTION:Der spezielle Sonntagsbrunch für die ganze Familie bietet ein genussreiches Buffet mit Chäs und Fleisch (fast alles aus der Region)\, Zopf und Honig. \nJeweils von 10.30 Uhr bis 13.30 Uhr bei jeder Witterung. \nReservation empfohlen…\nPreis: 28 Franken/Person ab 12 Jahren\, 1 Franken/Altersjahr bis 12 Jahre. \n \nAuskunft und Reservationen Sonntagsbrunch\nE-Mail: brunch@waldschenke-winterthur.ch
URL:https://www.waldschenke-winterthur.ch/event/sonntagsbrunch-25-august-2024/
ATTACH;FMTTYPE=image/jpeg:https://www.waldschenke-winterthur.ch/wp-content/uploads/090419_Waldschenke_buffet_original.jpg
END:VEVENT
BEGIN:VEVENT
DTSTART;TZID=Europe/Zurich:20250706T103000
DTEND;TZID=Europe/Zurich:20250706T133000
DTSTAMP:20260421T161500
CREATED:20240204T165537Z
LAST-MODIFIED:20250325T113307Z
UID:1894-1751797800-1751808600@www.waldschenke-winterthur.ch
SUMMARY:Sonntagsbrunch 06. Juli 2025
DESCRIPTION:Der spezielle Sonntagsbrunch für die ganze Familie bietet ein genussreiches Buffet mit Chäs und Fleisch (fast alles aus der Region)\, Zopf und Honig. \nJeweils von 10.30 Uhr bis 13.30 Uhr bei jeder Witterung. \nReservation empfohlen…\nPreis: 28 Franken/Person ab 12 Jahren\, 1 Franken/Altersjahr bis 12 Jahre. \n \nAuskunft und Reservationen Sonntagsbrunch\nE-Mail: brunch@waldschenke-winterthur.ch
URL:https://www.waldschenke-winterthur.ch/event/sonntagsbrunch-07-07-2024/
ATTACH;FMTTYPE=image/jpeg:https://www.waldschenke-winterthur.ch/wp-content/uploads/090419_Waldschenke_buffet_original.jpg
END:VEVENT
BEGIN:VEVENT
DTSTART;TZID=Europe/Zurich:20250704T170000
DTEND;TZID=Europe/Zurich:20250704T230000
DTSTAMP:20260421T161500
CREATED:20240516T160434Z
LAST-MODIFIED:20250502T151302Z
UID:1912-1751648400-1751670000@www.waldschenke-winterthur.ch
SUMMARY:Waldschenke Sommerfest 2025
DESCRIPTION:Das traditionelle Sommerfest der SP-Sektionen Töss und Veltheim/Wülflingen. \nDieses Jahr beginnt das Fest bereits um 17:00 und es wird Spielkisten vom Jugglux haben. Packt also eure Kinder ein und kommt auf den Brühlberg. \nAuch für die Erwachsenen gibt es wie jedes Jahr ein spannendes Rahmenprogramm: \nPolitik: Mattea Meyer \n \nSie ist Co-Präsidentin der SP Schweiz\, Nationalrätin und Winterthurerin und wird für einen spannenden politischen Input sorgen. \nMusik: Bottervogel \n \nBottervogel aus Winterthur ist im Grunde ein Mensch mit Akustikgitarre (Nylonsaiten!). Er macht Lieder mit deutschen Texten. Oder auch Meta-Reinhau Anti-Anti-Folk. \nDer Vogel zupft nicht\, weil er es nicht kann. Stattdessen spielt er Pop-Protestsongs mit Schmackes\, mal melodischer\, mal dynamischer. Sie handeln zB. von Notbremsungen\, Handelscontainern\, dem Herumirren in den Strassen oder der Herrschaft der Phrasen. Im Studio fügt der Vogel den Liedern zahlreiche Orgelsounds hinzu. Ja\, auch Bass und Snare Drum sind Orgelsounds. Die Songs weiten sich aus\, rennen herum\, verdrücken ein paar Tränen und kriechen in die Menschen hinein. Töne machen aus allem mehr als es gibt\, hofft Bottervogel.\nMehr über Bottervogel: https://ikarusrecords.ch/artists/bottervogel/ \n  \nEssen & Trinken: \nWie jedes Jahr stellen wir (zum Verkauf) Getränke und Kuchen\, sowie ein brennendes Feuer zur Verfügung. Ausserdem wird es dieses Jahr einen feinen Kartoffelsalat geben. \nSelber mitbringen dürft ihr Esswaren für auf den Grill und weitere gesunde Snacks. Ausserdem freuen wir uns\, wenn ihr euer eigenes Geschirr und Besteck mitbringt\, oder beim Abwasch helft. \nWir freuen uns ausserdem über helfende Hände oder Kuchenbäcker:innen. \nHier könnt ihr euch zum Helfen eintragen:\nTrag dich ein! \nEintritt frei\, Kollekte\nDas Fest ist öffentlich. Nimm Freunde und Familie mit!
URL:https://www.waldschenke-winterthur.ch/event/waldschenke-sommerfest-2025/
LOCATION:Waldschenke Winterthur\, Obere Brüelbergstrasse\, Winterthur\, 8408\, Schweiz
ATTACH;FMTTYPE=image/jpeg:https://www.waldschenke-winterthur.ch/wp-content/uploads/250413_SP_Waldschenke_Beitragsbild.jpg
END:VEVENT
BEGIN:VEVENT
DTSTART;TZID=Europe/Zurich:20250511T103000
DTEND;TZID=Europe/Zurich:20250511T133000
DTSTAMP:20260421T161500
CREATED:20240204T164956Z
LAST-MODIFIED:20250325T113158Z
UID:1889-1746959400-1746970200@www.waldschenke-winterthur.ch
SUMMARY:Sonntagsbrunch 11. Mai 2025
DESCRIPTION:Der spezielle Sonntagsbrunch für die ganze Familie bietet ein genussreiches Buffet mit Chäs und Fleisch (fast alles aus der Region)\, Zopf und Honig. \nJeweils von 10.30 Uhr bis 13.30 Uhr bei jeder Witterung. \nReservation empfohlen…\nPreis: 28 Franken/Person ab 12 Jahren\, 1 Franken/Altersjahr bis 12 Jahre. \n \nAuskunft und Reservationen Sonntagsbrunch\nE-Mail: brunch@waldschenke-winterthur.ch
URL:https://www.waldschenke-winterthur.ch/event/sonntagsbrunch-12-mai-2024/
ATTACH;FMTTYPE=image/jpeg:https://www.waldschenke-winterthur.ch/wp-content/uploads/090419_Waldschenke_buffet_original.jpg
END:VEVENT
BEGIN:VEVENT
DTSTART;TZID=Europe/Zurich:20241020T103000
DTEND;TZID=Europe/Zurich:20241020T133000
DTSTAMP:20260421T161500
CREATED:20240204T170448Z
LAST-MODIFIED:20240204T170448Z
UID:1901-1729420200-1729431000@www.waldschenke-winterthur.ch
SUMMARY:Sonntagsbrunch 20. Oktober 2024
DESCRIPTION:Der spezielle Sonntagsbrunch für die ganze Familie bietet ein genussreiches Buffet mit Chäs und Fleisch (fast alles aus der Region)\, Zopf und Honig. \nJeweils von 10.30 Uhr bis 13.30 Uhr bei jeder Witterung. \nReservation empfohlen…\nPreis: 28 Franken/Person ab 12 Jahren\, 1 Franken/Altersjahr bis 12 Jahre. \n \nAuskunft und Reservationen Sonntagsbrunch\nE-Mail: brunch@waldschenke-winterthur.ch
URL:https://www.waldschenke-winterthur.ch/event/sonntagsbrunch-20-oktober-2024/
ATTACH;FMTTYPE=image/jpeg:https://www.waldschenke-winterthur.ch/wp-content/uploads/090419_Waldschenke_buffet_original.jpg
END:VEVENT
BEGIN:VEVENT
DTSTART;TZID=Europe/Zurich:20240609T103000
DTEND;TZID=Europe/Zurich:20240609T133000
DTSTAMP:20260421T161500
CREATED:20240204T165355Z
LAST-MODIFIED:20240204T165355Z
UID:1892-1717929000-1717939800@www.waldschenke-winterthur.ch
SUMMARY:Sonntagsbrunch 09. Juni 2024
DESCRIPTION:Der spezielle Sonntagsbrunch für die ganze Familie bietet ein genussreiches Buffet mit Chäs und Fleisch (fast alles aus der Region)\, Zopf und Honig. \nJeweils von 10.30 Uhr bis 13.30 Uhr bei jeder Witterung. \nReservation empfohlen…\nPreis: 28 Franken/Person ab 12 Jahren\, 1 Franken/Altersjahr bis 12 Jahre. \n \nAuskunft und Reservationen Sonntagsbrunch\nE-Mail: brunch@waldschenke-winterthur.ch
URL:https://www.waldschenke-winterthur.ch/event/sonntagsbrunch-09-juni-2024/
ATTACH;FMTTYPE=image/jpeg:https://www.waldschenke-winterthur.ch/wp-content/uploads/090419_Waldschenke_buffet_original.jpg
END:VEVENT
END:VCALENDAR